BEGIN:VCALENDAR
VERSION:2.0
PRODID:-//A vos côtés - ECPv5.0.2.1//NONSGML v1.0//EN
CALSCALE:GREGORIAN
METHOD:PUBLISH
X-WR-CALNAME:A vos côtés
X-ORIGINAL-URL:https://www.ufp74.fr
X-WR-CALDESC:Évènements pour A vos côtés
BEGIN:VTIMEZONE
TZID:Europe/Paris
BEGIN:DAYLIGHT
TZOFFSETFROM:+0100
TZOFFSETTO:+0200
TZNAME:CEST
DTSTART:20250330T010000
END:DAYLIGHT
BEGIN:STANDARD
TZOFFSETFROM:+0200
TZOFFSETTO:+0100
TZNAME:CET
DTSTART:20251026T010000
END:STANDARD
END:VTIMEZONE
BEGIN:VEVENT
DTSTART;TZID=Europe/Paris:20250222T190000
DTEND;TZID=Europe/Paris:20250222T210000
DTSTAMP:20260420T054806
CREATED:20250114T151124Z
LAST-MODIFIED:20250114T151238Z
UID:6650-1740250800-1740258000@www.ufp74.fr
SUMMARY:conférence; "partout où elle peut\, la terre appelle les arbres"
DESCRIPTION:L’ association Cyclamen Chéran Bauges Environnement propose le samedi 22 février 2025 à 19h\, au Pôle Culturel d’Alby sur Chéran\, une conférence exceptionnelle dédiée à l’ARBRE\, dans toutes ses dimensions\, animée par Ernst ZÜRCHER\, ingénieur forestier suisse\, chercheur en science du bois et auteur de nombreux ouvrages\, et Alain CANET\, agronome et agroforestier\, formateur et ardent défenseur d’une agriculture de régénération. \nUne conférence à deux voix entre un scientifique et un technicien autour de l’ARBRE : « Partout où elle peut la Terre appelle les Arbres… » \nCette conférence sera précédée par un spectacle vivant « REBRANCHAGE »\, une découverte sonore et poétique de la forêt proposée par HELIOFILMS. Deux séances vous sont proposées\, une à 15 heures et l’autre à 17 heures. \nD’autre part\, dès 16 heures\, vous pourrez accéder à notre espace « buvette et petite restauration ». \nVous trouverez sur l’affiche et le flyer joints toutes les informations pour participer à cet évènement exceptionnel dans la région. \nL’achat des billets\, spectacle et (ou) conférence\,  se fait sur Helloasso en scannant le QRCode figurant sur l’affiche ou le flyer ou en suivant le lien suivant : \nhttps://www.helloasso.com/associations/cyclamen-cheran-bauges-environnement \nPour soutenir l’association et être informé de nos actions\,  il vous est déjà possible d’adhérer ou de renouveler votre adhésion en suivant le lien ci-dessus. \nSi vous avez des questions\,  n’hésitez pas à nous contacter par mail. \nL’équipe du CA de Cyclamen \n     
URL:https://www.ufp74.fr/event/conference-partout-ou-elle-peut-la-terre-appelle-les-arbres/
LOCATION:pôle culturel\, 363\, allée du collège\, HERY SUR ALBY\, Sélectionner un État :\, 74540\, France
CATEGORIES:Bauges
ORGANIZER;CN="association%20cyclamen":MAILTO:contact@cyclamen74.org
END:VEVENT
END:VCALENDAR