BEGIN:VCALENDAR
VERSION:2.0
PRODID:-//A vos côtés - ECPv5.0.2.1//NONSGML v1.0//EN
CALSCALE:GREGORIAN
METHOD:PUBLISH
X-WR-CALNAME:A vos côtés
X-ORIGINAL-URL:https://www.ufp74.fr
X-WR-CALDESC:Évènements pour A vos côtés
BEGIN:VTIMEZONE
TZID:Europe/Paris
BEGIN:DAYLIGHT
TZOFFSETFROM:+0100
TZOFFSETTO:+0200
TZNAME:CEST
DTSTART:20210328T010000
END:DAYLIGHT
BEGIN:STANDARD
TZOFFSETFROM:+0200
TZOFFSETTO:+0100
TZNAME:CET
DTSTART:20211031T010000
END:STANDARD
END:VTIMEZONE
BEGIN:VEVENT
DTSTART;TZID=Europe/Paris:20211210T193000
DTEND;TZID=Europe/Paris:20211210T213000
DTSTAMP:20260422T215840
CREATED:20211126T052933Z
LAST-MODIFIED:20211126T052933Z
UID:4352-1639164600-1639171800@www.ufp74.fr
SUMMARY:Assemblée Générale de la section SAGe
DESCRIPTION:l’Assemblée Générale Ordinaire de la Section Salève-Albanais-Genevois \nse tiendra: le Vendredi 10 décembre 2021 à 19h30 \nSalle des Marcassins – 161 place Claudius Luiset 74330 Sillingy \nOrdre du jour : \n\nAccueil et présentation\nRapport moral\nRapport d’activité\nBilan financier\nRenouvellement du Conseil d’Administration\nPrésentation sur le thème : « Les acteurs de la filière bois »\n\nA l’issue de l’assemblée générale\, un verre de l’amitié sera offert à l’ensemble des participants. \nCette réunion est soumise à l’obligation de présentation du Pass Sanitaire et au port du masque. \nEn cas d’évolution restrictive des contraintes sanitaires\, merci de consulter le site ufp74.fr pour vous assurer du maintien de cette réunion. 
URL:https://www.ufp74.fr/event/assemblee-generale-de-la-section-sage-3/
LOCATION:Salle des Marcassins – 161 place Claudius Luiset 74330 Sillingy\, SILLINGY\, 74330\, France
CATEGORIES:Salève-Alabanais-Genevois
END:VEVENT
END:VCALENDAR